BEGIN:VCALENDAR
VERSION:2.0
PRODID:-//IILM Swiss Business School
CALSCALE:GREGORIAN
METHOD:PUBLISH
X-WR-CALNAME:IILM Swiss Business School
X-ORIGINAL-URL:https://sbs.iilm.edu/event/computer-science-101/
X-WR-CALDESC:Computer Science 101
BEGIN:VEVENT
DTSTART:20141231T070000
DTEND:20141231T173000
SUMMARY:Computer Science 101
DESCRIPTION:Ut enim ad minima veniam, quis nostrum exercitationem ullam corporis suscipit laboriosam.
LOCATION:Bentley Campus, Perth, WA
END:VEVENT
END:VCALENDAR
